Workbook

Sheet 01.Budgetmall
B2: BUDGETMALL ORGANISATIONSBIDRAG (i kronor)
A3: Namn på organisationen
A5: OBS - Fyll först i bladet 'Kalkyl för lönekostnader' nedan, om ni söker bidrag för löner.
A6: OBS - Fyll endast i de vita cellerna
B8: A: Kostnader organisation
A9: A1 : Lönekostnader (inklusive arbetsgivaravgifter och semesterersättning) | B9: Ange befattningar och beskriv arbetsuppgifter kortfattat | C9: Belopp
A10: Lönekostnader ledning | C10: ='02.Kalkyl för lönekostnader '!F6 -> 1392271.7 | E10: Beloppet överförs från "Kalkyl för lönekostnader"
A11: Lönekostnader medarbetare | C11: ='02.Kalkyl för lönekostnader '!F7 -> 0 | E11: Beloppet överförs från "Kalkyl för lönekostnader"
A12: Lönekostnader administration, HR, Ekonomi , IT | C12: ='02.Kalkyl för lönekostnader '!F8 -> 0 | E12: Beloppet överförs från "Kalkyl för lönekostnader"
B13: Totala lönekostnader inklusive arbetsgivaravgifter och semesterersättning | C13: =SUM(C10:C12) -> 1392271.7
A14: A2 : Personalkostnader | B14: Beskriv kostnaderna kortfattat samt ange enklare beräkning | C14: Belopp
A15: Kompetensutveckling / Utbildning
A16: Rekrytering
A17: Personalrepresenatation
A18: Skattefri personalvård
A19: Timanställda / arvodister
A20: Övriga personalkostnader
B21: Summa personalkostnader | C21: =SUM(C15:C20) -> 0
A22: A3 : Övriga kostnader / Driftkostnader | B22: Beskriv kostnaderna kortfattat samt ange enklare beräkning | C22: Belopp
A23: Lokalhyra
A24: El och Värme
A25: Städning
A26: Licenser och dataprogram
A27: Reparation och underhåll av maskiner, verktyg ellelr inventarier
A28: Resekostnader
A29: Frakt och transport
A30: Kontorsmaterial
A31: Telekommunikation
A32: Försäkringar
A33: Revisonstjänster
A34: Bankkostnader
A35: Övriga externa tjänster
B36: Totala övriga kostnader, utöver personal för din organisation | C36: =SUM(C23:C35) -> 0
B37: TOTALA KOSTNADER FÖR ORGANISATIONEN | C37: =C13+C21+C36 -> 1392271.7
B39: B: Finansiering / Intäkter
A40: B1: Extern finansiering | B40: Ange vad som finansieras | C40: Belopp
B49: Summa extern finansiering | C49: =SUM(C41:C48) -> 0
A50: B2: Egen medfinansiering (Ange källan till intäkter) | B50: Ange vad som finansieras samt enklare beräkning | C50: Belopp
B58: Summa intäkter som genereras inom organisationen | C58: =SUM(C51:C57) -> 0
B59: Totala intäkter inom organisationen | C59: =C49+C58 -> 0
...

Sheet 02.Kalkyl för lönekostnader 
A2: OBS - Fyll endast i de vita cellerna
A4: Lönekostnader
A5: A1 : LÖNEKOSTNADER inklusive arbetsgivaravgifter och semesterersättning | B5: Antal personer | C5: Antal årsarbetskrafter | D5: Genomsnitt månadslön | E5: PO pålägg % | F5: Lönekostnader inkl PO
A6: Lönekostnader ledning | B6: 3 | C6: 1.75 | D6: 50000 | E6: 31.42 | F6: =(((D6*12)+(D6*0.43%*25))+((D6*12)+(D6*0.43%*25))*E6/100)*C6 -> 1392271.7
A7: Lönekostnader medarbetare | F7: =(((D7*12)+(D7*0.43%*25))+((D7*12)+(D7*0.43%*25))*E7/100)*C7 -> 0
A8: Lönekostnader administration, HR, ekonomi, IT | F8: =(((D8*12)+(D8*0.43%*25))+((D8*12)+(D8*0.43%*25))*E8/100)*C8 -> 0
B9: =SUM(B6:B8) -> 3 | C9: =SUM(C6:C8) -> 1.75 | E9: TOTALA LÖNEKOSTNADER | F9: =SUM(F6:F8) -> 1392271.7

Sheet 03.Budgetmall exempel
B2: BUDGETMALL EXEMPEL ORGANISATIONSBIDRAG (i kronor)
A3: Namn på organisationen | B3: Förening Hållbarhet
B6: A: Kostnader organisation
A7: A1 : Lönekostnader (inklusive arbetsgivaravgifter och semesterersättning) | B7: Ange befattningar och arbetsuppgifter (kortfattat) | C7: Belopp
A8: Lönekostnader ledning | B8: Verksamhetsledare, verksamhetschefer, enhetschefer, regionchef | C8: ='02.Kalkyl för lönekostnader '!F6 -> 1392271.7 | E8: Beloppet överförs från "Kalkyl för lönekostnader"
A9: Lönekostnader medarbetare | B9: Samordnare, utvecklare, handledare, studiecoach | C9: ='02.Kalkyl för lönekostnader '!F7 -> 0 | E9: Beloppet överförs från "Kalkyl för lönekostnader"
A10: Lönekostnader administration, HR, Ekonomi , IT | B10: Ekonom, administratör, HR assistent, IT handläggare | C10: ='02.Kalkyl för lönekostnader '!F8 -> 0 | E10: Beloppet överförs från "Kalkyl för lönekostnader"
B11: Totala lönekostnader inklusive arbetsgivaravgifter och semesterersättning | C11: =SUM(C8:C10) -> 1392271.7
A12: A2 : Personalkostnader | B12: Beskriv kostnaderna kortfattat samt ange enklare beräkning | C12: Belopp
A13: Kompetensutveckling / Utbildning | B13: Förelesare 2 ggr om året * 15 000 | C13: 30000
A14: Rekrytering | B14: Annonsering, intervjuer med externa tjänster ca 2*20 000 ggr om året | C14: 40000
A15: Personalrepresentation | B15: Aktiviteter personal 1 ggr om året 200 kr per person * 12 | C15: 2400
A16: Skattefri personalvård | B16: Friskvårdsersättning 12 medarbetare 1500 | C16: 18000
A17: Timanställda / arvodister | B17: Timanställda ca 8st * 1500 /månad / under 6 månader | C17: 72000
A18: Övriga personalkostnader | B18: Företagshäslovård ca 3000 /år, fruktkorgar 1 gång /vecka 50*100 kr, timanställda ca 8st * 1500 /månad / under 6 månader | C18: 80000
B19: Summa personalkostnader | C19: =SUM(C13:C18) -> 242400
A20: A3 : Övriga kostnader / Driftkostnader | B20: Beskriv kostnaderna kortfattat samt ange enklare beräkning | C20: Belopp
A21: Lokalhyra | B21: Hyra på Malmögatan 15 , 200 kvm inklusive kontor 5000 /månad, uthyrda lokaler 3 * 17 000 | C21: 111000
A22: El och Värme | B22: ca 1500 kr / månad * 12 | C22: 18000
A23: Städning | B23: 3 000 kr / månad | C23: 36000
A24: Licenser och dataprogram | B24: Ca 12 000 kr / månad * 12, Windows, Ekonomi system, It system | C24: 24000
A25: Reparation och underhåll av maskiner, verktyg eller inventarier | B25: ca 1 000 / månad | C25: 12000
A26: Resekostnader | B26: Kopplade till utbildningar och konferenser inom Sverige, ca 5 resor / år inkl hotel * 4000 | C26: 20000
A27: Frakt och transport | B27: Varubud, paketfrakt ca 1000 kr / månad | C27: 12000
A28: Kontorsmaterial | B28: diverse inköp till kontor ca 300 kr / månad | C28: 3600
A29: Telekommunikation | B29: Abonnemangs avgifter 150 kr / person /månad * 12, internet /wifi 500 kr / månad | C29: 27600
A30: Försäkringar | B30: 350 kr / månad * 12 lokaler, 60 kr / person /månad | C30: 12840
A31: Revisonstjänster | B31: 3 000 kr / månad * 12 | C31: 36000
A32: Bankkostnader | B32: 500 kr / månad * 12 | C32: 6000
A33: Övriga externa tjänster | B33: Översättning och tolkning ca 3000 kr / månad* 12, juridisk hjälp ca 5000 kr /år | C33: 41000
B34: Totala övriga kostnader, utöver personal för din organisation | C34: =SUM(C21:C33) -> 360040
B35: TOTALA KOSTNADER FÖR ORGANISATIONEN | C35: =C11+C19+C34 -> 1994711.7
B37: B: Finansiering / Intäkter
A38: B1: Extern finansiering | B38: Ange vad som finansieras | C38: Belopp
A39: Region Skåne | B39: Projekt X, finansierar lönekostnader | C39: 100000
A40: Vinnova | B40: Projekt Y, finansierar perosnalkostnader, 30 % indirekta kostnader | C40: 350000
A41: Socialstyrelsen | B41: Verksamhetsstöd - kvinnojour, utan specificering | C41: 500000
B47: Summa extern finansiering | C47: =SUM(C39:C46) -> 950000
A48: B2: Egen medfinansiering (Ange källan till intäkter) | B48: Ange vad som finansieras samt enklare beräkning | C48: Belopp
A49: Medlemsvagifter | B49: 100 medlemar * 100 kr inköp till aktiviteter, eller styrelsearvode | C49: 10000
...

Sheet Blad4
B2: 1
B3: 2

Sheet Blad3
C1: BUDGETMALL ORGANISATIONSBIDRAG ( i kr )
C2: ANSÖKAN OM BIDRAG
A3: Namn på organisationen
A4: Antal år bidraget söks för
A6: OBS - fyll endast i de vita cellerna
B8: Kostnadeor oganisation
A9: A1 : LÖNEKOSTNADER inklusive arbetsgivaravgifter och semesterersättning | B9: Antal personer | C9: Antal Årsarbetskrafter | D9: Genomsnitt Månadslön | E9: PO påläggi % | F9: Lönekostnader inkl PO
A10: Lönekostnader ledning | C10: 3 | D10: 50000 | E10: 31.42 | F10: =(((D10*12)+(D10*0.43%*25))+((D10*12)+(D10*0.43%*25))*E10/100)*C10 -> 2386751.5 | I10: Beloppet överförs från "Kalkyl för lönekostnader" | J10: ?
A11: Lönekostnader medarbetare | C11: 2.5 | D11: 36000 | E11: 31.42 | F11: =(((D11*12)+(D11*0.43%*25))+((D11*12)+(D11*0.43%*25))*E11/100)*C11 -> 1432050.9 | I11: Beloppet överförs från "Kalkyl för lönekostnader" | J11: ?
A12: Lönekostnader administration, HR, Ekonomi , IT | C12: 1.2 | D12: 25000 | E12: 31.42 | F12: =(((D12*12)+(D12*0.43%*25))+((D12*12)+(D12*0.43%*25))*E12/100)*C12 -> 477350.29 | I12: Beloppet överförs från "Kalkyl för lönekostnader" | J12: ?
E13: TOTALA LÖNEKOSTNADER | F13: =SUM(F10:F12) -> 4296152.7
A14: A2 Personalkostnader
A15: Kompetensutveckling / Utbildning
A16: Rekrytering
A17: Personalrepresenataion
A18: Personalvård- skattefria | I18: 50 000*12
A19: Övriga personalkostnader | I19: =I18 -> 50 000*12
I20: =50000*12 -> 600000
B27: Summa Personalkostnader inkl PO | F27: =SUM(F10:F12) -> 4296152.7
A28: A2 : Övriga kostnader | B28: Beskrivning av övriga kostnader och enklare beräkning | F28: Belopp
B59: Summa övriga kostnader | F59: =SUM(F29:F58) -> 0
B60: Totalt budgeterade kostnader inom verksamheten | F60: =F27+#REF!+F59 -> #REF!
A62: Finansiering
A63: Extern finansiäerer | B63: Vad finansieras | F63: Belopp
B72: Summa annan finansiering | F72: =SUM(F64:F71) -> 0
A73: Intern finansiering , vilken källa | B73: Vad finansieras | F73: Belopp
B81: Summa intäkter som genereras inom verksamheten
B82: Totala intäkter inom organisationen | F82: =F72+F81 -> 0
B83: Summa för kostnader som söks stöd för | F83: =F60-F82 -> #REF!

Sheet Kalkyl för lönekostnader
A1: Kalkyl för lönekostnader (lönenivå 2027) | G1: OBS -
A2: Totalt: | B2: Grunddata | C2: 2026 | D2: 2027 | E2: TOTALT | G2: Välj personalroll i rullistan i de gula cellerna
D3: 0.025 | G3: Fyll i uppgifter om lön i de gröna cellerna
A4: Totala LÖNEKOSTNAD | C4: =SUM(C5:C6) -> 2513759.1 | D4: =SUM(D5:D6) -> 2576603.1 | E4: =SUM(C4:C4) -> 2513759.1 | G4: Totala lönekostnader inkl PO
A5: LÖN | C5: =C9+C15+C21+C27+C33+C39+C45+C51+C57+C63 -> 1795542.2 | D5: =D9+D15+D21+D27+D33+D39+D45+D51+D57+D63 -> 1840430.8 | E5: =SUM(C5:C5) -> 1795542.2 | G5: Totala lönekostnader exkl PO
A6: PO | C6: =C10+C16+C22+C28+C34+C40+C46+C52+C58+C64 -> 718216.9 | D6: =D10+D16+D22+D28+D34+D40+D46+D52+D58+D64 -> 736172.32 | E6: =SUM(C6:C6) -> 718216.9 | G6: Totala PO kostnader
A7: Person 1
A8: Lön inkl PO | C8: =SUM(C9:C10) -> 318669.4 | D8: =SUM(D9:D10) -> 326636.14 | E8: =SUM(C8:D8) -> 645305.54 | G8: Totala lönekostnader "Person 1"
A9: Månadslön | B9: 37600 | C9: =(($B$9*12)+($B$9*0.43%*25))/12*C11*C12 -> 227621 | D9: =(($B$9*12)+($B$9*0.43%*25))/12*D11*D12*(100%+D3) -> 233311.52 | G9: Överförs till "Budgetmall" cell A11
A10: PO | B10: 0.4 | C10: =$B$10*C9 -> 91048.4 | D10: =$B$10*D9 -> 93324.61
A11: Antal månader | C11: 12 | D11: 12 | G11: OBS - Ifyllda siffror under "Person 1" är enbart ett exempel.
A12: Omfattning | C12: 0.5 | D12: 0.5 | G12: Byt ut exemplet mot aktuella siffror för er verksamhet i de gröna cellerna.
A13: Person 2
A14: Lön inkl PO | C14: =SUM(C15:C16) -> 211881.25 | D14: =SUM(D15:D16) -> 217178.28 | E14: =SUM(C14:D14) -> 429059.53 | G14: Totala lönekostnader "Person 2"
A15: Månadslön | B15: 25000 | C15: =(($B$15*12)+($B$15*0.43%*25))/12*C17*C18 -> 151343.75 | D15: =(($B$15*12)+($B$15*0.43%*25))/12*D17*D18*(100%+D3) -> 155127.34 | G15: Överförs till "Budgetmall" cell A12
A16: PO | B16: 0.4 | C16: =$B$16*C15 -> 60537.5 | D16: =$B$16*D15 -> 62050.938
A17: Antal månader | C17: 12 | D17: 12
A18: Omfattning | C18: 0.5 | D18: 0.5
A19: Person 3
A20: Lön inkl PO | C20: =SUM(C21:C22) -> 220356.5 | D20: =SUM(D21:D22) -> 225865.41 | E20: =SUM(C20:D20) -> 446221.91 | G20: Totala lönekostnader "Person 3"
A21: Månadslön | B21: 26000 | C21: =(($B$21*12)+($B$21*0.43%*25))/12*C23*C24 -> 157397.5 | D21: =(($B$21*12)+($B$21*0.43%*25))/12*D23*D24*(100%+D3) -> 161332.44 | G21: Överförs till "Budgetmall" cell A13
A22: PO | B22: 0.4 | C22: =$B$22*C21 -> 62959 | D22: =$B$22*D21 -> 64532.975
A23: Antal månader | C23: 12 | D23: 12
A24: Omfattning | C24: 0.5 | D24: 0.5
A25: Person 4
A26: Lön inkl PO | C26: =SUM(C27:C28) -> 228831.75 | D26: =SUM(D27:D28) -> 234552.54 | E26: =SUM(C26:D26) -> 463384.29 | G26: Totala lönekostnader "Person 4"
A27: Månadslön | B27: 27000 | C27: =(($B$27*12)+($B$27*0.43%*25))/12*C29*C30 -> 163451.25 | D27: =(($B$27*12)+($B$27*0.43%*25))/12*D29*D30*(100%+D3) -> 167537.53 | G27: Överförs till "Budgetmall" cell A14
A28: PO | B28: 0.4 | C28: =$B$28*C27 -> 65380.5 | D28: =$B$28*D27 -> 67015.012
A29: Antal månader | C29: 12 | D29: 12
A30: Omfattning | C30: 0.5 | D30: 0.5
A31: Person 5
A32: Lön inkl PO | C32: =SUM(C33:C34) -> 237307 | D32: =SUM(D33:D34) -> 243239.67 | E32: =SUM(C32:D32) -> 480546.67 | G32: Totala lönekostnader "Person 5"
A33: Månadslön | B33: 28000 | C33: =(($B$33*12)+($B$33*0.43%*25))/12*C35*C36 -> 169505 | D33: =(($B$33*12)+($B$33*0.43%*25))/12*D35*D36*(100%+D3) -> 173742.62 | G33: Överförs till "Budgetmall" cell A15
A34: PO | B34: 0.4 | C34: =$B$34*C33 -> 67802 | D34: =$B$34*D33 -> 69497.05
A35: Antal månader | C35: 12 | D35: 12
A36: Omfattning | C36: 0.5 | D36: 0.5
A37: Person 6
A38: Lön inkl PO | C38: =SUM(C39:C40) -> 245782.25 | D38: =SUM(D39:D40) -> 251926.81 | E38: =SUM(C38:D38) -> 497709.06 | G38: Totala lönekostnader "Person 6"
A39: Månadslön | B39: 29000 | C39: =(($B$39*12)+($B$39*0.43%*25))/12*C41*C42 -> 175558.75 | D39: =(($B$39*12)+($B$39*0.43%*25))/12*D41*D42*(100%+D3) -> 179947.72 | G39: Överförs till "Budgetmall" cell A16
A40: PO | B40: 0.4 | C40: =$B$40*C39 -> 70223.5 | D40: =$B$40*D39 -> 71979.087
...

Sheet Blad2
A3: Projektledare
A4: Projektmedarbetare
A5: Administratör

Sheet Blad1
A1: Projektledare
A2: Medarbetare
A3: Adminsitratör
