Workbook

Sheet 01.Instruktion
B1: ANSÖKAN OM KOMMUNSTYRELSENS EVENEMANGSBIDRAG
B2: INSTRUKTIONER
B4: Läs detta innan ni börjar
B5: Mallen är ett arbetsverktyg för att planera ekonomin för det evenemang som ni avser att söka bidrag för. Nedan finns instruktioner om hur ni fyller i budgetmallen.
B6: (1) Börja med att spara denna budgetmall i en dator.
B7: (2) Ni ska bara fylla i ifyllbara fält. Se beskrivning nedan.
B9: Innehållsförteckning
B10: Dokumentetet har fem flikar med olika innehåll. Nedan beskrivs dessa var för sig.
B12: Flik 1: Instruktion
B13: Här finns instruktioner till budgetmallen, steg för steg. Läs igenom innan ni fyller i budgetmallen. I denna flik ska ingenting fyllas i.
B15: Flik 2: Budgetmall
B16: Här fyller ni i organisationens budget för ansökt evenemang. Det är obligatoriskt att fylla i denna flik och det är den budget som kommer att användas vid bedömning av bidragsberättigade kostnader.
... B63: Här visas exempel på hur budgeten kan se ut ifylld. I denna flik ska ingenting fyllas i. Fliken är låst.

Sheet 02.BUDGETMALL 
B1: ANSÖKAN OM KOMMUNSTRYRELSENS EVENEMANGSBIDRAG
B2: BUDGETMALL
B4: Evenemangets namn:
B5: Arrangör:
B7: OBS - fyll endast i vita celler!
B8: I de blåa cellerna under "Kostnader för evenemanget" fylls uppgifter i automatiskt från flik 4, "Kalkyl för lönekostnader".
B10: A: KOSTNADER för evenemanget | C10: Summa totala kostnader | D10: =SUM(D20:D21,D65) -> 136359.75
B11: A1: Personal, data fylls i från lönekalkylen | C11: Arbetsuppgifter | D11: Lönekostnader inkl PO
B12: ='04.Kalkyl för lönekostnader'!B10 -> Projektledare | D12: ='04.Kalkyl för lönekostnader'!F11 -> 118573.7
B13: ='04.Kalkyl för lönekostnader'!B16 -> Medarbetare | D13: ='04.Kalkyl för lönekostnader'!F17 -> 0
B14: ='04.Kalkyl för lönekostnader'!B22 -> Administratör | D14: ='04.Kalkyl för lönekostnader'!F23 -> 0
B15: ='04.Kalkyl för lönekostnader'!B28 -> Person 4 | D15: ='04.Kalkyl för lönekostnader'!F29 -> 0
B16: ='04.Kalkyl för lönekostnader'!B34 -> Person 5 | D16: ='04.Kalkyl för lönekostnader'!F35 -> 0
B17: ='04.Kalkyl för lönekostnader'!B40 -> Person 6 | D17: ='04.Kalkyl för lönekostnader'!F41 -> 0
B18: ='04.Kalkyl för lönekostnader'!B46 -> Person 7 | D18: ='04.Kalkyl för lönekostnader'!F47 -> 0
B19: ='04.Kalkyl för lönekostnader'!B52 -> Person 8 | D19: ='04.Kalkyl för lönekostnader'!F53 -> 0
C20: Summa lönekostnader inkl PO | D20: =SUM(D12:D19) -> 118573.7
C21: OH-kostnader (15 %) | D21: =D20*0.15 -> 17786.054
B23: A2: Övriga kostnader | C23: Beskrivning av övriga kostnader | D23: Belopp
B24: Artistgage och omkostnader på plats
B25: Avfallshantering
B26: Avgift för bygglov
B27: Avgift för polistillstånd
B28: Avgift för serveringstillstånd
B29: Avspärrningar och fordonshinder
B30: Belysning
B31: Brandskydd
B32: Fotograf/filmare
B33: Försäkringar
B34: Hemsida
B35: Kortterminaler
... B53: Extern representation
C65: Summa övriga kostnader | D65: =SUM(D24:D64) -> 0
B67: B: INTÄKTER för evenemanget | C67: Summa av totala intäkter | D67: =D76+D85 -> 0
B68: B1: Externa intäkter (exklusive kommunstyrelsens evenemangsbidrag) | C68: Finansiär | D68: Belopp
D69: 0
C76: Summa extern finansiering: | D76: =SUM(D69:D75) -> 0
B78: B2: Egen medfinansiering i form av arbetstid /kontant | C78: Finansieringskälla för intäkter ( varifrån intäkter kommer) | D78: Belopp
C85: Summa egen finansiering: | D85: =SUM(D79:D84) -> 0
B87: C: Summa kostnader som evenemangsbidrag söks för | D87: =D10-D67 -> 136359.75

Sheet 03.Budgetmall ex
B1: EXEMPEL
B2: BUDGETMALL
B4: Evenemangets namn: X
B5: Arrangör: Y
B7: A: KOSTNADER för evenemanget | C7: Summa totala kostnader | D7: =SUM(D17:D18,D53) -> 414559.75
B8: A1: Personal, data fylls i från lönekalkylen | C8: Arbetsuppgifter | D8: Lönekostnader inkl PO
B9: ='04.Kalkyl för lönekostnader'!B10 -> Projektledare | C9: Möte med Malmö stad, rapportering till styrgruppen, möte samarbetspartners | D9: ='04.Kalkyl för lönekostnader'!F11 -> 118573.7
B10: ='04.Kalkyl för lönekostnader'!B16 -> Medarbetare | C10: Ta emot besökare, samordna volontärer, sätta upp skyltar, lägga upp annonser | D10: ='04.Kalkyl för lönekostnader'!F17 -> 0
B11: ='04.Kalkyl för lönekostnader'!B22 -> Administratör | C11: Hanterar fakturor, avtal , ekonomi kopplat till evenemanget | D11: ='04.Kalkyl för lönekostnader'!F23 -> 0
B12: ='04.Kalkyl för lönekostnader'!B28 -> Person 4 | D12: ='04.Kalkyl för lönekostnader'!F29 -> 0
B13: ='04.Kalkyl för lönekostnader'!B34 -> Person 5 | D13: ='04.Kalkyl för lönekostnader'!F35 -> 0
B14: ='04.Kalkyl för lönekostnader'!B40 -> Person 6 | D14: ='04.Kalkyl för lönekostnader'!F41 -> 0
B15: Person 7
B16: Person 8
C17: Summa lönekostnader inkl PO | D17: =SUM(D9:D14) -> 118573.7
C18: OH-kostnader (15 %) | D18: =D17*0.15 -> 17786.054
B20: A2: Övriga kostnader | C20: Beskrivning av övriga kostnader, enklare beräkning | D20: Belopp
B21: Artistgage och omkostnader på plats | C21: 13 200 per dag enligt offerten * 3 dagar + resa 1500 | D21: 41100
B22: Avfallshantering | C22: 700 kr per dag* 5 stationer* 3 dagar | D22: 10500
B23: Avgift för bygglov | C23: Enligt prislista | D23: 15000
B24: Avgift för polistillstånd | C24: Enligt prislista | D24: 3000
B25: Avgift för serveringstillstånd | C25: Enligt prislista | D25: 10000
B26: Belysning | C26: inhyrd utrustning 10 000 per dag * 3000 | D26: 30000
B27: Biljettförsäljning | C27: Via tickets.se, avgift | D27: 5000
B28: Brandskydd | C28: Enl. offerten 5 000 kr för 3 dagar | D28: 5000
B29: Fotograf/filmare | C29: 150 bilder - prispaket | D29: 13000
B30: Försäkringar | C30: 3 600 för utrustning, 5000 olycksfalls, avbeställning 3000 | D30: 11600
B31: Hemsida | C31: 3 000 standaravgift för 3 månader | D31: 3000
B32: Kortterminaler | C32: 2 000 kr avgift / månad | D32: 2000
... B35: Marknadsföring | C35: Annonsering i lokaltidning, FB, Instagram | D35: 5000
B36: Matvagnar /-tält
B37: Platsspecifika kostnader
B38: Press
B39: Scen
B40: Skyltning och dekoration
B41: STIM-avgift
B42: Stängsel
B43: Säkerhet | C43: 10 000 per dag enl. offerten *3 dagar | D43: 30000
B44: Toaletter
B45: Transporter
B46: Trycksaker
B47: Tält, möbler, inredning
B48: Volontärer | C48: 10 volontärer* 3000 per dag * 3 dagar | D48: 45000
B49: Återställningskostnader
B50: Utbildning | C50: workshops för volontärer , 2 tillfälle * 2 000 | D50: 4000
C53: Summa övriga kostnader | D53: =SUM(D21:D52) -> 278200
B55: B: INTÄKTER för evenemanget | C55: Summa av totala intäkter | D55: =D67+D76 -> 274560
B56: B1: Externa intäkter (exklusive kommunstyrelsens evenemangsbidrag) | C56: Finansiär | D56: Belopp
B57: Stöd för evenemang - artister | C57: Region Skåne | D57: 25000
B58: Lönestöd för adminsitratör 60 % av lön | C58: Arbetsförmedlingen | D58: 16160
B59: Sponsor 1, ej specificerade kostnader | C59: Företag A | D59: 25000
C67: Summa extern finansiering: | D67: =SUM(D57:D66) -> 66160
B69: B2: Egen medfinansiering i form av arbetstid /kontant | C69: Finansiäringskälla för intäkter ( varifrån intäkter kommer) | D69: Belopp
B70: Ej fördelade intäkter efter planeringen 2025 | C70: Medlemsavgifter | D70: 13400
B71: Biljettförsäljning | C71: 500 besökare * 300 kr | D71: 150000
B72: Försäljning på plats | C72: Bedömning enligt tidigare år | D72: 30000
B73: Hyra och andra avgifter från deltagande försäljare | C73: 1500 per plats * 10 plaster | D73: 15000
C76: Summa egen finansiering: | D76: =SUM(D70:D75) -> 208400
B78: C: Summa kostnader som evenemangsbidrag söks för | D78: =D7-D55 -> 139999.75

Sheet 04.Kalkyl för lönekostnader
B1: KALKYL
B2: LÖNEKOSTNADER
B4: Kalkyl för lönekostnader (lönenivå 2026)
B5: Totalt: | C5: Grunddata | D5: 2026 | E5: 2027 | F5: TOTALT
B6: Löneuppräkning | D6: 0 | E6: 0.025
B7: Totala LÖNEKOSTNAD | D7: =SUM(D8:D9) -> 118573.7 | E7: =SUM(E8:E9) -> 0 | F7: =SUM(D7:E7) -> 118573.7 | H7: Totala lönekostnader inkl PO
B8: LÖN | D8: =D12+D18+D24+D30+D36+D42+D48+D54 -> 90225 | E8: =E12+E18+E24+E30+E36+E42+E48+E54 -> 0 | F8: =SUM(D8:E8) -> 90225 | H8: Totala lönekostnader exkl PO
B9: PO | D9: =D13+D19+D25+D31+D37+D43+D49+D55 -> 28348.695 | E9: =E13+E19+E25+E31+E37+E43+E49+E55 -> 0 | F9: =SUM(D9:E9) -> 28348.695 | H9: Totala PO-kostnader
B10: Projektledare
B11: Lön inkl PO | D11: =SUM(D12:D13) -> 118573.7 | E11: =SUM(E12:E13) -> 0 | F11: =SUM(D11:E11) -> 118573.7 | H11: OBS!
B12: Månadslön | C12: 30000 | D12: =(($C$12*12)+($C$12*0.12%*25))/12*D14*D15*(100%+D6) -> 90225 | E12: =(($C$12*12)+($C$12*0.12%*25))/12*E14*E15*(100%+E6) -> 0 | H12: Fyll i endast gröna celler
B13: PO | C13: 0.3142 | D13: =$C$13*D12 -> 28348.695 | E13: =$C$13*E12 -> 0
B14: Antal månader | D14: 6
B15: Omfattning | D15: 0.5
B16: Medarbetare
B17: Lön inkl PO | D17: =SUM(D18:D19) -> 0 | E17: =SUM(E18:E19) -> 0 | F17: =SUM(D17:E17) -> 0
B18: Månadslön | D18: =(($C$18*12)+($C$18*0.12%*25))/12*D20*D21*(100%+D6) -> 0 | E18: =(($C$18*12)+($C$18*0.12%*25))/12*E20*E21*(100%+E6) -> 0
B19: PO | D19: =$C$19*D18 -> 0 | E19: =$C$19*E18 -> 0
B20: Antal månader
B21: Omfattning
B22: Administratör
B23: Lön inkl PO | D23: =SUM(D24:D25) -> 0 | E23: =SUM(E24:E25) -> 0 | F23: =SUM(D23:E23) -> 0
B24: Månadslön | D24: =(($C$24*12)+($C$24*0.12%*25))/12*D26*D27*(100%+D6) -> 0 | E24: =(($C$24*12)+($C$24*0.12%*25))/12*E26*E27*(100%+E6) -> 0
B25: PO | D25: =$C$25*D24 -> 0 | E25: =$C$25*E24 -> 0
B26: Antal månader
B27: Omfattning
B28: Person 4
B29: Lön inkl PO | D29: =SUM(D30:D31) -> 0 | E29: =SUM(E30:E31) -> 0 | F29: =SUM(D29:E29) -> 0
B30: Månadslön | D30: =(($C$30*12)+($C$30*0.12%*25))/12*D32*D33*(100%+D6) -> 0 | E30: =(($C$30*12)+($C$30*0.12%*25))/12*E32*E33*(100%+E6) -> 0
B31: PO | D31: =$C$31*D30 -> 0 | E31: =$C$31*E30 -> 0
B32: Antal månader
B33: Omfattning
B34: Person 5
B35: Lön inkl PO | D35: =SUM(D36:D37) -> 0 | E35: =SUM(E36:E37) -> 0 | F35: =SUM(D35:E35) -> 0
B36: Månadslön | D36: =(($C$36*12)+($C$36*0.12%*25))/12*D38*D39*(100%+D6) -> 0 | E36: =(($C$36*12)+($C$36*0.12%*25))/12*E38*E39*(100%+E6) -> 0
B37: PO | D37: =$C$37*D36 -> 0 | E37: =$C$37*E36 -> 0
B38: Antal månader
B39: Omfattning
B40: Person 6
B41: Lön inkl PO | D41: =SUM(D42:D43) -> 0 | E41: =SUM(E42:E43) -> 0 | F41: =SUM(D41:E41) -> 0
B42: Månadslön | D42: =(($C$42*12)+($C$42*0.12%*25))/12*D44*D45*(100%+D6) -> 0 | E42: =(($C$42*12)+($C$42*0.12%*25))/12*E44*E45*(100%+E6) -> 0
B43: PO | D43: =$C$43*D42 -> 0 | E43: =$C$43*E42 -> 0
B44: Antal månader
B45: Omfattning
B46: Person 7
B47: Lön inkl PO | D47: =SUM(D48:D49) -> 0 | E47: =SUM(E48:E49) -> 0 | F47: =SUM(D47:E47) -> 0
B48: Månadslön | D48: =(($C$48*12)+($C$48*0.12%*25))/12*D50*D51*(100%+D6) -> 0 | E48: =(($C$48*12)+($C$48*0.12%*25))/12*E50*E51*(100%+E6) -> 0
B49: PO | D49: =$C$49*D48 -> 0 | E49: =$C$49*E48 -> 0
B50: Antal månader
B51: Omfattning
B52: Person 8
B53: Lön inkl PO | D53: =SUM(D54:D55) -> 0 | E53: =SUM(E54:E55) -> 0 | F53: =SUM(D53:E53) -> 0
B54: Månadslön | D54: =(($C$54*12)+($C$54*0.12%*25))/12*D56*D57*(100%+D6) -> 0 | E54: =(($C$54*12)+($C$54*0.12%*25))/12*E56*E57*(100%+E6) -> 0
B55: PO | D55: =$C$55*D54 -> 0 | E55: =$C$55*E54 -> 0
B56: Antal månader
B57: Omfattning

Sheet 05.Indirekta kostnader 
B1: INDIREKTA KOSTNADER
B3: Kostnader som är gemensamma för hela organisationen ska inte redovisas separat utan kommer automatiskt att tillföras budgetmallen i flik 2 genom ett påslag på 15 procent på de lönekostnader du anger i flik 4. I budgetmallen benämns denna post som ”OH-kostnader (15%)”. Exempel på indirekta kostnader som kan ingå i detta påslag anges nedan. Observera att övriga kostnader som är direkt kopplade till evenemangets genomförande – till exempel lokalhyra – ska redovisas separat i budgetmallen under rubriken "Övriga kostnader".
B5: Följande kostnadskategorier utgör indirekta kostnader
B7: • Övergripande styrning och ledning.
B8: • Övrig indirekt personalkostnad i organisationen till den del som inte arbetar direkt med evenemanget (ledning, kundservice, personalenhet, ekonomi etc.).
B9: • Övergripande administration, IT-support, information, marknadsföring, juridik m.m.
B10: • Centralt personalstöd för all personal i organisationen.
B11: • Utbildning och annan kompetensutveckling för ordinarie arbete.
B12: • Rekryteringskostnader inklusive utannonsering av tjänst.
B13: • Hälso- och sjukvård.
B14: • Frisk- och personalvårdsförmåner ( t.ex. gymkort, friskvårdstimme ).
B15: • Lokalkostnader för ordinarie verksamhet (administration, ledning mm).
... B27: • Intern representation: mat och gåvor.

Sheet Blad1
A2: Projektledare
A3: Medarbetare
A4: Administratör
