Workbook

Sheet 01.Budgetmall
B2: BUDGETMALL PROJEKTBIDRAG (i kronor)
A3: Projektnamn
A4: Ansökande organisation/projektägare
A5: Projektperiod
A7: OBS - Fyll först i bladet 'Kalkyl för lönekostnader' nedan, om ni söker bidrag för löner.
A8: OBS - Fyll endast i de vita cellerna
A10: A: Kostnader inom projektet
A11: A1 : Personal och roll i projektet som bidrag söks för | B11: Arbetsuppgifter (Specificera arbetsuppgifter i projektet för respektive person) | C11: Lönekostnader inkl PO
A12: ='02.Kalkyl för lönekostnader'!A7 -> Projektledare | C12: ='02.Kalkyl för lönekostnader'!D8 -> 278454.34 | F12: Beloppet överförs från "Kalkyl för lönekostnader"
A13: ='02.Kalkyl för lönekostnader'!A13 -> Person 2 | C13: ='02.Kalkyl för lönekostnader'!D14 -> 0 | F13: Beloppet överförs från "Kalkyl för lönekostnader"
A14: ='02.Kalkyl för lönekostnader'!A19 -> Person 3 | C14: ='02.Kalkyl för lönekostnader'!D20 -> 0 | F14: Beloppet överförs från "Kalkyl för lönekostnader"
A15: ='02.Kalkyl för lönekostnader'!A25 -> Person 4 | C15: ='02.Kalkyl för lönekostnader'!D26 -> 0 | F15: Beloppet överförs från "Kalkyl för lönekostnader"
A16: ='02.Kalkyl för lönekostnader'!A31 -> Person 5 | C16: ='02.Kalkyl för lönekostnader'!D32 -> 0 | F16: Beloppet överförs från "Kalkyl för lönekostnader"
A17: ='02.Kalkyl för lönekostnader'!A37 -> Person 6 | C17: ='02.Kalkyl för lönekostnader'!D38 -> 0 | F17: Beloppet överförs från "Kalkyl för lönekostnader"
A18: ='02.Kalkyl för lönekostnader'!A43 -> Person 7 | C18: ='02.Kalkyl för lönekostnader'!D44 -> 0 | F18: Beloppet överförs från "Kalkyl för lönekostnader"
A19: ='02.Kalkyl för lönekostnader'!A49 -> Person 8 | C19: ='02.Kalkyl för lönekostnader'!D50 -> 0 | F19: Beloppet överförs från "Kalkyl för lönekostnader"
A20: ='02.Kalkyl för lönekostnader'!A55 -> Person 9 | C20: ='02.Kalkyl för lönekostnader'!D56 -> 0 | F20: Beloppet överförs från "Kalkyl för lönekostnader"
A21: ='02.Kalkyl för lönekostnader'!A61 -> Person 10 | C21: ='02.Kalkyl för lönekostnader'!D62 -> 0 | F21: Beloppet överförs från "Kalkyl för lönekostnader"
B22: Summa Personalkostnader inkl PO | C22: =SUM(C12:C21) -> 278454.34
B23: OH-kostnader (15 %) | C23: =C22*0.15 -> 41768.151
A24: A2 : Övriga kostnader i projektet som bidrag söks för | B24: Beskrivning av övriga kostnader och enklare beräkning | C24: Belopp
B55: Summa övriga kostnader | C55: =SUM(C25:C54) -> 0
B56: Totalt budgeterade kostnader inom projektet | C56: =C22+C23+C55 -> 320222.49
A58: B Intäkter / Finansiering av projekt
A59: B1: Extern medfinansiering av projekt (beskriv kostnadsposter) | B59: Finansiär | C59: Belopp
B68: Summa annan finansiering | C68: =SUM(C60:C67) -> 0
A69: B2: Egen medfinansiering av projekt (beskriv kostnadsposter) | B69: Finansieringskälla för intäkt (varifrån intäkten kommer) | C69: Belopp
B77: Summa intern finansierng | C77: =SUM(C70:C76) -> 0
A78: B3: Intäkter som genereras inom projektet (beskriv kostnadsposter) | B78: Beskrivning av intäkt | C78: Belopp
B85: Summa intäkter som genereras inom projektet | C85: =SUM(C79:C84) -> 0
B86: Totalt budgeterad annan eller egen finansiering inom projektet | C86: =C68+C77+C85 -> 0
B87: Summa kostander som söks stöd för | C87: =C56-C86 -> 320222.49

Sheet 02.Kalkyl för lönekostnader
A1: Kalkyl för lönekostnader (lönenivå 2027) | F1: OBS - Fyll i endast vita celler i tabellen
A2: Totalt: | B2: Grunddata | C2: 2027 | D2: TOTALT
A4: Total LÖNEKOSTNAD | C4: =SUM(C5:C6) -> 278454.34 | D4: =SUM(C4:C4) -> 278454.34 | F4: Totala lönekostnader inkl PO
A5: LÖN | C5: =C9+C15+C21+C27+C33+C39+C45+C51+C57+C63 -> 211881.25 | D5: =SUM(C5:C5) -> 211881.25 | F5: Totala lönekostnader exkl PO
A6: PO | C6: =C10+C16+C22+C28+C34+C40+C46+C52+C58+C64 -> 66573.089 | D6: =SUM(C6:C6) -> 66573.089 | F6: Totala PO kostnader
A7: Projektledare
A8: Lön inkl PO | D8: =C9+C10 -> 278454.34 | F8: Totala lönekostnader "Person 1"
A9: Månadslön | B9: 35000 | C9: =(($B$9*12)+($B$9*0.43%*25))/12*C11*C12 -> 211881.25 | F9: Överförs till "Budgetmall" cell C11
A10: PO | B10: 0.3142 | C10: =$B$10*C9 -> 66573.089
A11: Antal månader | C11: 12 | F11: OBS - Ifyllda siffror under "Person 1" är enbart ett exempel.
A12: Omfattning | C12: 0.5 | F12: Byt ut exemplet mot aktuella siffror för er verksamhet i de gröna cellerna.
A13: Person 2
A14: Lön inkl PO | D14: =C15+C16 -> 0 | F14: Totala lönekostnader "Person 2"
A15: Månadslön | B15: 0 | C15: =(($B$15*12)+($B$15*0.43%*25))/12*C17*C18 -> 0 | F15: Överförs till "Budgetmall" cell C12
A16: PO | B16: 0 | C16: =$B$16*C15 -> 0
A17: Antal månader | C17: 0
A18: Omfattning | C18: 0
A19: Person 3
A20: Lön inkl PO | D20: =C21+C22 -> 0 | F20: Totala lönekostnader "Person 3"
A21: Månadslön | B21: 0 | C21: =(($B$21*12)+($B$21*0.43%*25))/12*C23*C24 -> 0 | F21: Överförs till "Budgetmall" cell C 13
A22: PO | B22: 0 | C22: =$B$22*C21 -> 0
A23: Antal månader | C23: 0
A24: Omfattning | C24: 0
A25: Person 4
A26: Lön inkl PO | C26: =SUM(C27:C28) -> 0 | D26: =SUM(C26:C26) -> 0 | F26: Totala lönekostnader "Person 4"
A27: Månadslön | B27: 0 | C27: =(($B$27*12)+($B$27*0.43%*25))/12*C29*C30 -> 0 | F27: Överförs till "Budgetmall" cell C14
A28: PO | B28: 0 | C28: =$B$28*C27 -> 0
A29: Antal månader | C29: 0
A30: Omfattning | C30: 0
A31: Person 5
A32: Lön inkl PO | C32: =SUM(C33:C34) -> 0 | D32: =SUM(C32:C32) -> 0 | F32: Totala lönekostnader "Person 5"
A33: Månadslön | B33: 0 | C33: =(($B$33*12)+($B$33*0.43%*25))/12*C35*C36 -> 0 | F33: Överförs till "Budgetmall" cell C15
A34: PO | B34: 0 | C34: =$B$34*C33 -> 0
A35: Antal månader | C35: 0
A36: Omfattning | C36: 0
A37: Person 6
A38: Lön inkl PO | C38: =SUM(C39:C40) -> 0 | D38: =SUM(C38:C38) -> 0 | F38: Totala lönekostnader "Person 6"
A39: Månadslön | B39: 0 | C39: =(($B$39*12)+($B$39*0.43%*25))/12*C41*C42 -> 0 | F39: Överförs till "Budgetmall" cell C16
A40: PO | B40: 0 | C40: =$B$40*C39 -> 0
A41: Antal månader | C41: 0
A42: Omfattning | C42: 0
A43: Person 7
A44: Lön inkl PO | C44: =SUM(C45:C46) -> 0 | D44: =SUM(C44:C44) -> 0 | F44: Totala lönekostnader "Person 7"
A45: Månadslön | B45: 0 | C45: =(($B$45*12)+($B$45*0.43%*25))/12*C47*C48 -> 0 | F45: Överförs till "Budgetmall" cell C17
A46: PO | B46: 0 | C46: =$B$46*C45 -> 0
A47: Antal månader | C47: 0
A48: Omfattning | C48: 0
A49: Person 8
A50: Lön inkl PO | C50: =SUM(C51:C52) -> 0 | D50: =SUM(C50:C50) -> 0 | F50: Totala lönekostnader "Person 8"
A51: Månadslön | B51: 0 | C51: =(($B$51*12)+($B$51*0.43%*25))/12*C53*C54 -> 0 | F51: Överförs till "Budgetmall" rad C18
A52: PO | B52: 0 | C52: =$B$52*C51 -> 0
A53: Antal månader | C53: 0
A54: Omfattning | C54: 0
A55: Person 9
A56: Lön inkl PO | C56: =SUM(C57:C58) -> 0 | D56: =SUM(C56:C56) -> 0 | F56: Totala lönekostnader "Person 9"
A57: Månadslön | B57: 0 | C57: =(($B$57*12)+($B$57*0.43%*25))/12*C59*C60 -> 0 | F57: Överförs till "Budgetmall" rad C19
A58: PO | B58: 0 | C58: =$B$58*C57 -> 0
A59: Antal månader | C59: 0
A60: Omfattning | C60: 0
A61: Person 10
A62: Lön inkl PO | C62: =SUM(C63:C64) -> 0 | D62: =SUM(C62:C62) -> 0 | F62: Totala lönekostnader "Person 10"
A63: Månadslön | B63: 0 | C63: =(($B$63*12)+($B$63*0.43%*25))/12*C65*C66 -> 0 | F63: Överförs till "Budgetmall" cell C20
A64: PO | B64: 0 | C64: =$B$64*C63 -> 0
A65: Antal månader | C65: 0
A66: Omfattning | C66: 0

Sheet 03.Budgetmall exempel
B2: BUDGETMALL EXEMPEL PROJEKTBIDRAG (i kronor)
A3: Projektnamn | B3: Sociala innovationer
A4: Ansökande organisation/projektägare | B4: Hållbarhetsföreningen
A5: Projektperiod | B5: 20270101-20271231
A9: Kostnader inom projektet
A10: A1: Personal och roll i projketet som bidrag söks för | B10: Arbetsuppgifter (Specificera arbetsuppgifter i projektet för respektive person) | C10: Lönekostnader inkl PO
A11: Medarbetare | B11: Genomföra intervjuer, kartläggning av deltagare | C11: 197000
A12: Projektledare | B12: Möte med Malmö stad, skriva rapporter | C12: 553138
A13: Adminsitratör | B13: Löpande adminsitration, bokföring, budgetuppföljning | C13: 30075
A14: Projektmedarbetare | B14: Handledare inom aktivitet x | C14: 36000
B17: Summa Personalkostnader inkl PO | C17: =SUM(C11:C16) -> 816213
B18: OH-kostnader (15 %) | C18: =C17*0.15 -> 122431.95
A19: A2: Övriga kostnader i verksamheten som bidrag söks för | B19: Beskrivning av övriga kostnader och enklare beräkning | C19: Belopp
A20: Resekostnader | B20: Resor för deltagare till aktiviteter, 12 utflykter * 3 000 | C20: 36000
A21: Lokalkostnader | B21: Hyra 15 kvm på Järnvägsgatan 60, ca 20 % används projektet, (12*5 000 ) *0,2 | C21: 12000
A22: Utrustning och material | B22: Material för aktiviteter, pennor, block, målarfärg | C22: 10000
A23: Timanställda | B23: 10 timanställda * 30 timmar * 160 kr | C23: 48000
A24: Volontärer - vägledare, omkostnad | B24: Tröjor och flaskor med tryck (10 st * 50 kr ) + (10 * 25 kr ) | C24: 12500
B35: Summa övriga kostnader | C35: =SUM(C20:C34) -> 118500
B36: Totalt budgeterade kostnader inom projektet | C36: =C17+C18+C35 -> 1057144.9
A38: B Intäkter / finansiering av projekt
A39: B1: Extern medfinansiering av projekt (beskriv kostnadsposter) | B39: Finansiär | C39: Belopp
A40: Resekostnader till aktiviteter, 2 utflykter | B40: Myndighet X | C40: 6000
A41: Subventionering av hyra, 10 % tillfaller projektet | B41: Bostadsbolag X | C41: 1200
A42: Lönestöd för adminsitratör 60 % av lön | B42: Arbetsförmedlingen | C42: 18045
A43: Ej specificerad kostnad, medfinansiering samarbetspartner | B43: Region Skåne | C43: 350000
B45: Summa annan finansiering | C45: =SUM(C40:C44) -> 375245
A46: B2: Egen medfinansiering av projekt (beskriv kostnadsposter) | B46: Finansieringskälla för intäkt (varifrån intäkten kommer) | C46: Belopp
A47: Sparat eget kapital, buffert sparande | B47: Loppmarknad, medlemsavgifter, gåvor | C47: 25000
B52: Summa intern finansierng | C52: =SUM(C47:C51) -> 25000
A53: B3: Intäkter som genereras inom projektet (beskriv kostnadsposter) | B53: Beskrivning av intäkt | C53: Belopp
A54: Försäljning inom projektet | B54: Aktivitet bakning, 100 kakor * 25 kr | C54: 2500
B58: Summa intäkter som genereras inom projektet | C58: =SUM(C54:C55) -> 2500
B59: Totalt budgeterad annan eller egen finansiering inom projektet | C59: =C45+C52+C58 -> 402745
B60: Summa kostander som söks stöd för | C60: =C36-C59 -> 654399.95

Sheet Blad2
A3: Projektledare
A4: Projektmedarbetare
A5: Administratör

Sheet Blad1
A1: Projektledare
A2: Medarbetare
A3: Adminsitratör
